Workbook
Name building_config: 'SCENARIO 1 2 3 DATA'!#REF!
Name building_config: 'SCENARIO 4 5 6 DATA'!#REF!
Name building_config: 'SCENARIO 7 8 DATA'!#REF!
Name building_config: #REF!
Name configuration: 'Drop Down Menus'!$A$3:$A$5
Name configurationa: 'Drop Down Menus'!$B$3:$B$5
Name configurationb: 'Drop Down Menus'!$C$3:$C$5
Name configurationc: 'Drop Down Menus'!$E$3:$E$9
Name energy: 'Drop Down Menus'!$F$3:$F$6
Name energy1: 'Drop Down Menus'!$F$3:$F$6
Name flow_rate_per_application: 'SINGLE SHOWER'!$C$31
Name flow_rate_per_applicationa: 'DUAL SHOWER'!$C$30
Name flowrate_per_unit: 'DUAL SHOWER'!#REF!
Name flowrate_per_unit: 'MULTI-RES'!#REF!
Name flowunits: 'Drop Down Menus'!$H$11:$H$12
Name gangflow: 'Drop Down Menus'!$A$8:$A$9
Name heater_efficiency: #REF!
Name heater_efficiencya: 'DUAL SHOWER'!$C$31
Name heater_efficiencya: 'SINGLE SHOWER'!$C$32
Name imperial_flow_rate: #REF!
Name Industrial_flowrate_per_unit: 'DUAL SHOWER'!#REF!
Name Industrial_flowrate_per_unit: 'MULTI-RES'!#REF!
Name Industrial_flowrate_per_unit: 'SINGLE SHOWER'!#REF!
Name Industrial_flowrate_per_unit: #REF!
Name Industrial_max: 'DUAL SHOWER'!#REF!
Name Industrial_max: 'MULTI-RES'!#REF!
Name Industrial_max: 'SINGLE SHOWER'!#REF!
Name Industrial_max: #REF!
Name Industrial_max_apts_per_column: 'DUAL SHOWER'!#REF!
Name Industrial_max_apts_per_column: 'MULTI-RES'!#REF!
Name Industrial_max_apts_per_column: 'SINGLE SHOWER'!#REF!
Name Industrial_max_apts_per_column: #REF!
Name Industrial_min_apts_per_column: 'DUAL SHOWER'!#REF!
Name Industrial_min_apts_per_column: 'MULTI-RES'!#REF!
Name Industrial_min_apts_per_column: 'SINGLE SHOWER'!#REF!
Name Industrial_min_apts_per_column: #REF!
Name Industrial_number_of_apts: 'DUAL SHOWER'!#REF!
Name Industrial_number_of_apts: 'MULTI-RES'!#REF!
Name Industrial_number_of_apts: 'SINGLE SHOWER'!#REF!
Name Industrial_number_of_apts: #REF!
Name Industrial_qty_main_column_drains: 'DUAL SHOWER'!#REF!
Name Industrial_qty_main_column_drains: 'MULTI-RES'!#REF!
Name Industrial_qty_main_column_drains: 'SINGLE SHOWER'!#REF!
Name Industrial_qty_main_column_drains: #REF!
Name inflation: 'Drop Down Menus'!$A$71:$A$87
Name level1: #REF!
Name max_apts_per_column: 'DUAL SHOWER'!#REF!
Name max_apts_per_column: 'MULTI-RES'!#REF!
Name max_apts_per_column: 'SINGLE SHOWER'!#REF!
Name max_apts_per_column: #REF!
Name maximum_: 'DUAL SHOWER'!#REF!
Name maximum_: 'MULTI-RES'!#REF!
Name maximum_: 'SINGLE SHOWER'!#REF!
Name maximum_: #REF!
Name metric_flow_rate: 'Drop Down Menus'!$H$4:$H$6
Name min_apts_per_column: 'DUAL SHOWER'!#REF!
Name min_apts_per_column: 'MULTI-RES'!#REF!
Name min_apts_per_column: 'SINGLE SHOWER'!#REF!
Name min_apts_per_column: #REF!
Name Model: 'Drop Down Menus'!$E$15:$E$75

Sheet SINGLE SHOWER
B27: Customer operating parameters
B28: Configuration of ThermoDrain system | C28: 1 Equal flow 100%
B29: Operating time per shower (minutes) | C29: 10
B30: Frequency of shower per day | C30: 4
B31: Flow rate at shower head | C31: 9.5 lpm (2.5 gpm)
B32: Water heater efficiency | C32: 0.96
B33: Select temperature units | C33: C°
B34: =CONCATENATE("Temperature of drain water in ",C33) -> Temperature of drain water in C° | C34: 39.5
B35: =CONCATENATE("Temperature of cold water in ",C33) -> Temperature of cold water in C° | C35: 13.2
B37: Model selection | C37: Scenario 1 | D37: Scenario 2
B38: Model selection | C38: TDH3480B Model eff. 51% | D38: *TDH3620B* Model eff. 57.2%
B39: Unit nominal efficiency | C39: =VLOOKUP(C38,'Drop Down Menus'!E15:F75,2,FALSE)/1000 -> 0.51 | D39: =VLOOKUP(D38,'Drop Down Menus'!E15:F75,2,FALSE)/1000 -> 0.572
B40: Selected configuration efficiency | C40: ='SCENARIO 1 2 3 DATA'!B31 -> 0.51 | D40: ='SCENARIO 1 2 3 DATA'!C31 -> 0.572
B41: Calculations
B42: Energy recovered yearly | C42: =CONCATENATE('SCENARIO 1 2 3 DATA'!B33," kWh") -> 2264 kWh | D42: =CONCATENATE('SCENARIO 1 2 3 DATA'!C33," kWh") -> 2540 kWh
B43: GJ recovered yearly**** | C43: =CONCATENATE('SCENARIO 1 2 3 DATA'!B34," GJ") -> 6.8 GJ | D43: =CONCATENATE('SCENARIO 1 2 3 DATA'!C34," GJ") -> 7.6 GJ
B44: Therms recovered yearly*** | C44: =CONCATENATE('SCENARIO 1 2 3 DATA'!B35," Therm") -> 86 Therm | D44: =CONCATENATE('SCENARIO 1 2 3 DATA'!C35," Therm") -> 97 Therm
B45: Gas volume recovered yearly** | C45: =CONCATENATE('SCENARIO 1 2 3 DATA'!B36," m3") -> 218 m3 | D45: =CONCATENATE('SCENARIO 1 2 3 DATA'!C36," m3") -> 244 m3
B48: **1 kWh = 0.0962m3
B49: ***1 m3 = 0.396 Therm
B50: ****1kWh = .003GJ

Sheet SCENARIO 1 2 3 DATA
B1: 1 | C1: Total number of showers
A2: percent | B2: 1 | C2: Occupation rate
A3: l/min | B3: =IF(flow_rate_per_application="9.5 lpm (2.5 gpm)",95,IF(flow_rate_per_application="7.6 lpm (2.0 gpm)",76,IF(flow_rate_per_application="5.7 lpm (1.5 gpm)",57,FALSE))) -> 95 | C3: Flow rate at showerhead (litres/minute)
A4: g/min | B4: =IF(B3=95,25,IF(B3=76,20,IF(B3=57,15))) -> 25 | C4: Flow rate per application (gallons/minute)
B5: =IF('SINGLE SHOWER'!selected_configurationa="1 Equal flow 100%",100%,IF('SINGLE SHOWER'!selected_configurationa="2 Hot water preheat 79%",79%,IF('SINGLE SHOWER'!selected_configurationa="3 Cold water preheat 89%",89%,FALSE))) -> 1 | C5: selected configuration equal flow or not
A6: percent | B6: ='SINGLE SHOWER'!heater_efficiencya -> 0.96 | C6: Water heater efficiency (%)
B7: ='SINGLE SHOWER'!C29 -> 10 | C7: Operating time per shower (minutes)
B8: ='SINGLE SHOWER'!shower_frequency -> 4 | C8: Frequency of shower/ day
B9: =IF(B3=95,0,IF(B3=76,29/1000,IF(B3=57,61/1000))) -> 0 | C9: unit flow rate efficiency varation
B13: ='SINGLE SHOWER'!C33 -> C° | C13: SELECTION imperial or Metric
A14: C° | B14: =IF(B13="C°",'SINGLE SHOWER'!C34,ROUND(('SINGLE SHOWER'!C34-32)*(5/9),0)) -> 39.5 | C14: Temperature of drain water C°
A15: C° | B15: =IF(B13="C°",'SINGLE SHOWER'!C35,ROUND(('SINGLE SHOWER'!C35-32)*(5/9),1)) -> 13.2 | C15: Temperature of cold water C°
A16: C° | B16: =(B14-B15) -> 26.3 | C16: delta T C°
A19: hours | B19: =ROUND((B1*B7*B8*B2)/60,2) -> 0.67 | C19: daily shower usage
A20: hours | B20: =B19*365 -> 244.55 | C20: annual usage of shower time
A21: kW | B21: =ROUNDUP((((B3/60)*B16*(41855/10000))/B6),2) -> 181.56 | C21: Energy wasted in kW
A22: kWh | B22: =ROUND((B21*B20),1) -> 44400.5 | C22: Total Energy kWh wasted in operation 1 year
B25: SCENARIO 1 | C25: SCENARIO 2
A26: Model Selected | B26: ='SINGLE SHOWER'!C38 -> TDH3480B Model eff. 51% | C26: ='SINGLE SHOWER'!D38 -> *TDH3620B* Model eff. 57.2% | D26: Model
A28: percent | B28: ='SINGLE SHOWER'!C39 -> 0.51 | C28: ='SINGLE SHOWER'!D39 -> 0.572 | D28: maximum Efficiency of ThermoDrain
B29: =(B28+B9) -> 0.51 | C29: =C28+B9 -> 0.572 | D29: flow rate conversion efficiency of ThermoDrain
A30: percent | B30: =B5 -> 1 | C30: =B5 -> 1 | D30: configuration factor for ThermoDrain
A31: percent | B31: =ROUND((B30*B29),3) -> 0.51 | C31: =ROUND((C30*C29),3) -> 0.572 | D31: calculated efficiency of ThermoDrain in configuration
A33: kWh | B33: =ROUND(((B22*B31)/10),0) -> 2264 | C33: =ROUND(((C31*B22)/10),0) -> 2540 | D33: Recovered Energy using ThermoDrain
A34: GJ | B34: =ROUND(B33*(3/1000),1) -> 6.8 | C34: =ROUND(C33*(3/1000),1) -> 7.6 | D34: GJ recovered yearly****
A35: Therm | B35: =ROUND(B36*(396/1000),0) -> 86 | C35: =ROUND(C36*(396/1000),0) -> 97 | D35: Therms recovered yearly***
A36: m3 | B36: =ROUND(B33*(962/10000),0) -> 218 | C36: =ROUND(C33*962/10000,0) -> 244 | D36: Volume recovered yearly**
B37: =B6 -> 0.96 | C37: =B37 -> 0.96 | D37: hot water heater efficiency

Sheet DUAL SHOWER
B26: Customer operating parameters
B27: Configuration of ThermoDrain system | C27: 5 Mixed preheat mode 96%
B28: Operating time per shower (minutes) | C28: 8
B29: Frequency of shower per day | C29: 3
B30: Flow rate at shower head | C30: 7.6 lpm (2.0 gpm)
B31: Water heater efficiency | C31: 0.61
B32: Select temperature units | C32: C°
B33: =CONCATENATE("Temperature of drain water in ",C32) -> Temperature of drain water in C° | C33: 38
B34: =CONCATENATE("Temperature of cold water in ",C32) -> Temperature of cold water in C° | C34: 10
B36: Model selection | C36: Scenario 1 | D36: Scenario 2
B37: Model selection | C37: *TDH3335B* Model eff. 42.1% | D37: *TDH3620B* Model eff. 57.2%
B38: Unit nominal efficiency | C38: =VLOOKUP(C37,'Drop Down Menus'!E15:F75,2,FALSE)/1000 -> 0.421 | D38: =VLOOKUP(D37,'Drop Down Menus'!E15:F75,2,FALSE)/1000 -> 0.572
B39: Selected configuration efficiency | C39: ='SCENARIO 4 5 6 DATA'!B32 -> 0.432 | D39: ='SCENARIO 4 5 6 DATA'!C32 -> 0.577
B40: Calculations
B41: Energy recovered yearly | C41: =CONCATENATE('SCENARIO 4 5 6 DATA'!B34," kWh") -> 1535 kWh | D41: =CONCATENATE('SCENARIO 4 5 6 DATA'!C34," kWh") -> 2050 kWh
B42: GJ recovered yearly**** | C42: =CONCATENATE('SCENARIO 4 5 6 DATA'!B35," GJ") -> 4.6 GJ | D42: =CONCATENATE('SCENARIO 4 5 6 DATA'!C35," GJ") -> 6.2 GJ
B43: Therms recovered yearly*** | C43: =CONCATENATE('SCENARIO 4 5 6 DATA'!B36," Therm") -> 59 Therm | D43: =CONCATENATE('SCENARIO 4 5 6 DATA'!C36," Therm") -> 78 Therm
B44: Gas volume recovered yearly** | C44: =CONCATENATE('SCENARIO 4 5 6 DATA'!B37," m3") -> 148 m3 | D44: =CONCATENATE('SCENARIO 4 5 6 DATA'!C37," m3") -> 197 m3
B47: **1 kWh = 0.0962m3
B48: ***1 m3 = 0.396 Therm
B49: ****1kWh = .003GJ

Sheet SCENARIO 4 5 6 DATA
B1: 1 | C1: Total number of showers
A2: percent | B2: 1 | C2: Occupation rate
A3: l/min | B3: =IF('DUAL SHOWER'!flow_rate_per_applicationa="9.5 lpm (2.5 gpm)",95,IF('DUAL SHOWER'!flow_rate_per_applicationa="7.6 lpm (2.0 gpm)",76,IF('DUAL SHOWER'!flow_rate_per_applicationa="5.7 lpm (1.5 gpm)",57,FALSE))) -> 76 | C3: Flow rate at showerhead (litres/minute)
A4: g/min | B4: =IF(B3=95,25,IF(B3=76,20,IF(B3=57,15))) -> 20 | C4: Flow rate per application (gallons/minute)
B5: =VALUE(RIGHT('DUAL SHOWER'!selected_configurationb,4)) -> 0.96 | C5: selected configuration
A6: percent | B6: ='DUAL SHOWER'!heater_efficiencya -> 0.61 | C6: Water heater efficiency (%)
B7: ='DUAL SHOWER'!time_per_unit -> 8 | C7: Operating time per shower (minutes)
B8: ='DUAL SHOWER'!shower_frequency -> 3 | C8: Frequency of shower/ day
B9: =IF(B3=95,0,IF(B3=76,29/1000,IF(B3=57,61/1000))) -> 0.029 | C9: unit flow rate efficiency varation
B14: ='DUAL SHOWER'!C32 -> C° | C14: SELECTION imperial or Metric
A15: C° | B15: =IF(B14="C°",'DUAL SHOWER'!C33,ROUND(('DUAL SHOWER'!C33-32)*(5/9),1)) -> 38 | C15: Temperature of drain water C°
A16: C° | B16: =IF(B14="C°",'DUAL SHOWER'!C34,ROUND(('SINGLE SHOWER'!C35-32)*(5/9),1)) -> 10 | C16: Temperature of cold water C°
A17: C° | B17: =(B15-B16) -> 28 | C17: delta T C°
A20: hours | B20: =ROUND((B1*B7*B8*B2)/60,2) -> 0.4 | C20: daily shower usage
A21: hours | B21: =B20*365 -> 146 | C21: annual usage of shower time
A22: kW | B22: =ROUNDUP((((B3/60)*B17*(41855/10000))/B6),2) -> 243.36 | C22: Energy wasted in kW
A23: kWh | B23: =ROUND((B22*B21),1) -> 35530.6 | C23: Total Energy kWh wasted in operation 1 year
B26: SCENARIO 1 | C26: SCENARIO 2
A27: Model Selected | B27: ='DUAL SHOWER'!C37 -> *TDH3335B* Model eff. 42.1% | C27: ='DUAL SHOWER'!D37 -> *TDH3620B* Model eff. 57.2% | D27: Model
A29: percent | B29: ='DUAL SHOWER'!C38 -> 0.421 | C29: ='DUAL SHOWER'!D38 -> 0.572 | D29: maximum Efficiency of ThermoDrain
B30: =B29+B9 -> 0.45 | C30: =C29+B9 -> 0.601 | D30: flow rate conversion efficiency of ThermoDrain
A31: percent | B31: =B5 -> 0.96 | C31: =B5 -> 0.96 | D31: configuration factor for ThermoDrain
A32: percent | B32: =ROUND((B31*B30),3) -> 0.432 | C32: =ROUND((C31*C30),3) -> 0.577 | D32: calculated efficiency of ThermoDrain in configuration
A34: kWh | B34: =ROUND(((B23*B32)/10),0) -> 1535 | C34: =ROUND(((C32*B23)/10),0) -> 2050 | D34: Recovered Energy using ThermoDrain
A35: GJ | B35: =ROUND(B34*(3/1000),1) -> 4.6 | C35: =ROUND(C34*(3/1000),1) -> 6.2 | D35: GJ recovered yearly****
A36: Therm | B36: =ROUND(B37*(396/1000),0) -> 59 | C36: =ROUND(C37*(396/1000),0) -> 78 | D36: Therms recovered yearly***
A37: m3 | B37: =ROUND(B34*(962/10000),0) -> 148 | C37: =ROUND(C34*962/10000,0) -> 197 | D37: Volume recovered yearly**
B38: =B6 -> 0.61 | C38: =B38 -> 0.61 | D38: hot water heater efficiency

Sheet MULTI-RES
B50: *Refer to building and local codes
B51: Customer operating parameters
B52: Select multi residential configuration | C52: 13 Centralized hot water 1-1/4" line
B53: Total number of dwellings going through DWHR units | C53: 6
B54: Operating time per shower (minutes) | C54: 8
B55: Frequency of shower per day (per dwelling) | C55: 3
B56: Flow rate at shower head | C56: 7.6 lpm (2.0 gpm)
B57: Water heater efficiency | C57: 0.8
B58: Select temperature units | C58: C°
B59: =CONCATENATE("Temperature of drain water in ",C58) -> Temperature of drain water in C° | C59: 38
B60: =CONCATENATE("Temperature of cold water in ",C58) -> Temperature of cold water in C° | C60: 10
B62: Model selection | C62: Scenario 1 | D62: Scenario 2
B63: Model selection | C63: TDH3360B Model eff. 43.8% | D63: TDH3345B Model eff. 42.8%
B64: Number of units required per stack | C64: ='SCENARIO 7 8 DATA'!B12 -> Qty 2 units per stack, if N/A appears below, select a shorter unit
B65: Unit or combined units nominal efficiency | C65: =IF('SCENARIO 7 8 DATA'!B10=8,VLOOKUP(C63,'Drop Down Menus'!I15:J31,2,FALSE),IF('SCENARIO 7 8 DATA'!B10=10,VLOOKUP(C63,'Drop Down Menus'!I15:J31,2,FALSE),IF('SCENARIO 7 8 DATA'!B10=12,VLOOKUP(C63,'Drop Down Menus'!I15:J31,2,FALSE),IF('SCENARIO 7 8 DATA'!B10=13,VLOOKUP(C63,'Drop Down Menus'!I15:J31,2,FALSE),VLOOKUP(C63,'Drop Down Menus'!E15:F75,2,FALSE)))))/1000 -> 0.56 | D65: =IF('SCENARIO 7 8 DATA'!B10=8,VLOOKUP(D63,'Drop Down Menus'!I15:J31,2,FALSE),IF('SCENARIO 7 8 DATA'!B10=10,VLOOKUP(D63,'Drop Down Menus'!I15:J31,2,FALSE),IF('SCENARIO 7 8 DATA'!B10=12,VLOOKUP(D63,'Drop Down Menus'!I15:J31,2,FALSE),IF('SCENARIO 7 8 DATA'!B10=13,VLOOKUP(D63,'Drop Down Menus'!I15:J31,2,FALSE),VLOOKUP(D63,'Drop Down Menus'!E15:F75,2,FALSE)))))/1000 -> 0.55
B66: Selected configuration efficiency | C66: ='SCENARIO 7 8 DATA'!B33 -> 0.2355 | D66: ='SCENARIO 7 8 DATA'!C33 -> 0.2315
B67: Calculations
B68: Energy recovered yearly | C68: =CONCATENATE('SCENARIO 7 8 DATA'!B35," kWh") -> 3828 kWh | D68: =CONCATENATE('SCENARIO 7 8 DATA'!C35," kWh") -> 3763 kWh
B69: GJ recovered yearly**** | C69: =CONCATENATE('SCENARIO 7 8 DATA'!B36," GJ") -> 11.5 GJ | D69: =CONCATENATE('SCENARIO 7 8 DATA'!C36," GJ") -> 11.3 GJ
B70: Therms recovered yearly*** | C70: =CONCATENATE('SCENARIO 7 8 DATA'!B37," Therm") -> 145.73 Therm | D70: =CONCATENATE('SCENARIO 7 8 DATA'!C37," Therm") -> 143.35 Therm
B71: Gas volume recovered yearly** | C71: =CONCATENATE('SCENARIO 7 8 DATA'!B38," m3") -> 368 m3 | D71: =CONCATENATE('SCENARIO 7 8 DATA'!C38," m3") -> 362 m3
B72: ='SCENARIO 7 8 DATA'!B11 -> table2
B74: **1 kWh = 0.0962m3
B75: ***1 m3 = 0.396 Therm
B76: ****1kWh = .003GJ

Sheet SCENARIO 7 8 DATA
B1: 1 | C1: Total number of showers
A2: percent | B2: 1 | C2: Occupation rate
A3: l/min | B3: =IF('MULTI-RES'!C56="9.5 lpm (2.5 gpm)",95,IF('MULTI-RES'!C56="7.6 lpm (2.0 gpm)",76,IF('MULTI-RES'!C56="5.7 lpm (1.5 gpm)",57,FALSE))) -> 76 | C3: Flow rate at showerhead (litres/minute)
A4: g/min | B4: =IF(B3=95,25,IF(B3=76,2,IF(B3=57,15))) -> 2 | C4: Flow rate per application (gallons/minute)
B5: 0.8 | C5: selected configuration equal flow or not
A6: percent | B6: ='MULTI-RES'!C57 -> 0.8 | C6: Water heater efficiency (%)
B7: ='MULTI-RES'!C54 -> 8 | C7: Operating time per shower (minutes)
B8: ='MULTI-RES'!C55 -> 3 | C8: Frequency of shower/ day
B9: =IF(B3=95,0,IF(B3=76,29/1000,IF(B3=57,61/1000))) -> 0.029 | C9: unit flow rate efficiency varation (%)
B10: =VALUE(LEFT('MULTI-RES'!C52,2)) -> 13 | C10: scenario selected
B11: =IF(B10=8,"table2",IF(B10=10,"table2",IF(B10=12,"table2",IF(B10=7,"table1",IF(B10=9,"table1",IF(B10=11,"table1","table2")))))) -> table2 | C11: table to use
B12: =IF(B11="table1","Qty 1 unit per stack",IF(B11="table2","Qty 2 units per stack, if N/A appears below, select a shorter unit")) -> Qty 2 units per stack, if N/A appears below, select a shorter unit | C12: qty of units per stack
B14: ='DUAL SHOWER'!C32 -> C° | C14: SELECTION imperial or Metric
A15: C° | B15: =IF(B14="C°",'DUAL SHOWER'!C33,ROUND(('DUAL SHOWER'!C33-32)*(5/9),1)) -> 38 | C15: Temperature of drain water C°
A16: C° | B16: =IF(B14="C°",'DUAL SHOWER'!C34,ROUND(('SINGLE SHOWER'!C35-32)*(5/9),1)) -> 10 | C16: Temperature of cold water C°
A17: C° | B17: =(B15-B16) -> 28 | C17: delta T C°
A20: hours | B20: =ROUND((B1*B7*B8*B2)/60,2) -> 0.4 | C20: daily shower usage
A21: hours | B21: =B20*365 -> 146 | C21: annual usage of shower time
A22: kW | B22: =ROUNDUP((((B3/60)*B17*(41855/10000))/B6),2) -> 185.56 | C22: Energy wasted in kW
A23: kWh | B23: =ROUND((B22*B21),1) -> 27091.8 | C23: Total Energy kWh wasted in operation 1 year
B26: SCENARIO 1 | C26: SCENARIO 2
A27: Model Selected | B27: ='MULTI-RES'!C63 -> TDH3360B Model eff. 43.8% | C27: ='MULTI-RES'!D63 -> TDH3345B Model eff. 42.8% | D27: Model
B28: ='MULTI-RES'!C53 -> 6 | C28: =B28 -> 6 | D28: Dwelling multiplier
A29: percent | B29: ='MULTI-RES'!C65 -> 0.56 | C29: ='MULTI-RES'!D65 -> 0.55 | D29: maximum Efficiency of ThermoDrain
B30: =B29+B9 -> 0.589 | C30: =C29+B9 -> 0.579 | D30: flow rate conversion efficiency of ThermoDrain
A31: percent | B31: =B5 -> 0.8 | C31: =B5 -> 0.8 | D31: configuration factor for ThermoDrain
A32: percent | B32: =ROUND((B31*B30),3) -> 0.471 | C32: =ROUND((C31*C30),3) -> 0.463 | D32: calculated efficiency of ThermoDrain in configuration
A33: percent | B33: =IF($B$10=11,B32/2,IF($B$10=13,B32/2,B32)) -> 0.2355 | C33: =IF($B$10=11,C32/2,IF($B$10=13,C32/2,C32)) -> 0.2315 | D33: Adjustment parallel stacks
A35: kWh | B35: =ROUND(((($B$23/10)*B28)*B33),0) -> 3828 | C35: =ROUND(((($B$23/10)*C28)*C33),0) -> 3763 | D35: Recovered Energy using ThermoDrain
A36: GJ | B36: =ROUND((B35)*(3/1000),1) -> 11.5 | C36: =ROUND((C35)*(3/1000),1) -> 11.3 | D36: GJ recovered yearly****
A37: Therm | B37: =ROUND((B38)*(396/1000),2) -> 145.73 | C37: =ROUND((C38)*(396/1000),2) -> 143.35 | D37: Therms recovered yearly***
A38: m3 | B38: =ROUND((B35)*(962/10000),0) -> 368 | C38: =ROUND((C35)*(962/10000),0) -> 362 | D38: Volume recovered yearly**
B39: =B6 -> 0.8 | C39: =B39 -> 0.8 | D39: hot water heater efficiency

Sheet Drop Down Menus
A2: configuration | B2: configurationa | C2: configurationb | E2: configurationc | F2: energy
A3: Cold water preheat 89% | B3: 1 Equal flow 100% | C3: 4 Hot water preheat 79% | E3: 7 Distributed hot water 3/4" line | F3: Electricity (kWh) | H3: metric_flow_rate
A4: Hot water preheat 79% | B4: 2 Hot water preheat 79% | C4: 5 Mixed preheat mode 96% | E4: 8 Distributed hot water 1" line | F4: Gas (Therm) | H4: 5.7 lpm (1.5 gpm)
A5: Equal flow 100% | B5: 3 Cold water preheat 89% | C5: 6 Cold water preheat 89% | E5: 9 Centralized hot water 3/4" line | F5: Gas (GJ) | H5: 7.6 lpm (2.0 gpm)
E6: 10 Centralized hot water 1" line | F6: Gas (m3) | H6: 9.5 lpm (2.5 gpm)
A7: gangflow | E7: 11 Centralized hot water 1" line
A8: Cold water preheat 89% | E8: 12 Centralized hot water 1" line
A9: Hot water preheat 79% | E9: 13 Centralized hot water 1-1/4" line
H10: flowunits
C11: 4 Mixed preheat mode 96% | H11: litres/minute
C12: 5 Hot water preheat 79% | H12: gallons/minute
C13: 6 Cold water preheat 89% | F13: % efficiency based | I13: Dual Series Units, all models | S13: % efficiency based
E14: table1 | F14: values based on formula | I14: table2 | J14: Calculated % eff | L14: Equivalent lg | M14: Lg each | R14: table1 | S14: values based on formula
D15: TDH3320B | E15: TDH3320B Model eff. 41% | F15: 410 | H15: TDH3320B | I15: TDH3320B Model eff. 41% | J15: 531 | L15: =M15*2 -> 64 | M15: 32 | Q15: TDH3320B | R15: =Q15&" Model eff. "&S15*100&"%" -> TDH3320B Model eff. 41% | S15: 0.41
D16: TDH3325B | E16: TDH3325B Model eff. 41.4% | F16: 414 | H16: TDH3325B | I16: TDH3325B Model eff. 41.4% | J16: 535 | L16: =M16*2 -> 65 | M16: =325/10 -> 32.5 | Q16: TDH3325B | R16: =Q16&" Model eff. "&S16*100&"%" -> TDH3325B Model eff. 41,4% | S16: 0.414
D17: TDH3330B | E17: TDH3330B Model eff. 41.8% | F17: 418 | H17: TDH3330B | I17: TDH3330B Model eff. 41.8% | J17: 539 | L17: =M17*2 -> 66 | M17: 33 | Q17: TDH3330B | R17: =Q17&" Model eff. "&S17*100&"%" -> TDH3330B Model eff. 41,8% | S17: 0.418
D18: *TDH3335B* | E18: *TDH3335B* Model eff. 42.1% | F18: 421 | H18: *TDH3335B* | I18: *TDH3335B* Model eff. 42.1% | J18: 543 | L18: =M18*2 -> 67 | M18: =335/10 -> 33.5 | Q18: *TDH3335B* | R18: =Q18&" Model eff. "&S18*100&"%" -> *TDH3335B* Model eff. 42,1% | S18: 0.421
D19: TDH3340B | E19: TDH3340B Model eff. 42.5% | F19: 425 | H19: TDH3340B | I19: TDH3340B Model eff. 42.5% | J19: 546 | L19: =M19*2 -> 68 | M19: 34 | Q19: TDH3340B | R19: =Q19&" Model eff. "&S19*100&"%" -> TDH3340B Model eff. 42,5% | S19: 0.425
D20: TDH3345B | E20: TDH3345B Model eff. 42.8% | F20: 428 | H20: TDH3345B | I20: TDH3345B Model eff. 42.8% | J20: 550 | L20: =M20*2 -> 69 | M20: =345/10 -> 34.5 | Q20: TDH3345B | R20: =Q20&" Model eff. "&S20*100&"%" -> TDH3345B Model eff. 42,8% | S20: 0.428
D21: TDH3350B | E21: TDH3350B Model eff. 43.2% | F21: 432 | H21: TDH3350B | I21: TDH3350B Model eff. 43.2% | J21: 553 | L21: =M21*2 -> 70 | M21: 35 | Q21: TDH3350B | R21: =Q21&" Model eff. "&S21*100&"%" -> TDH3350B Model eff. 43,2% | S21: 0.432
D22: TDH3355B | E22: TDH3355B Model eff. 43.5% | F22: 435 | H22: TDH3355B | I22: TDH3355B Model eff. 43.5% | J22: 557 | L22: =M22*2 -> 71 | M22: =355/10 -> 35.5 | Q22: TDH3355B | R22: =Q22&" Model eff. "&S22*100&"%" -> TDH3355B Model eff. 43,5% | S22: 0.435
D23: TDH3360B | E23: TDH3360B Model eff. 43.8% | F23: 438 | H23: TDH3360B | I23: TDH3360B Model eff. 43.8% | J23: 560 | L23: =M23*2 -> 72 | M23: 36 | Q23: TDH3360B | R23: =Q23&" Model eff. "&S23*100&"%" -> TDH3360B Model eff. 43,8% | S23: 0.438
D24: TDH3365B | E24: TDH3365B Model eff. 44.2% | F24: 442 | H24: TDH3365B | I24: TDH3365B Model eff. 44.2% | J24: 564 | L24: =M24*2 -> 73 | M24: =365/10 -> 36.5 | Q24: TDH3365B | R24: =Q24&" Model eff. "&S24*100&"%" -> TDH3365B Model eff. 44,2% | S24: 0.442
A25: qty_showers | D25: TDH3370B | E25: TDH3370B Model eff. 44.5% | F25: 445 | H25: TDH3370B | I25: TDH3370B Model eff. 44.5% | J25: 567 | L25: =M25*2 -> 74 | M25: 37 | Q25: TDH3370B | R25: =Q25&" Model eff. "&S25*100&"%" -> TDH3370B Model eff. 44,5% | S25: 0.445
A26: 1 | D26: TDH3375B | E26: TDH3375B Model eff. 44.8% | F26: 448 | H26: TDH3375B | I26: TDH3375B Model eff. 44.8% | J26: 570 | L26: =M26*2 -> 75 | M26: =375/10 -> 37.5 | Q26: TDH3375B | R26: =Q26&" Model eff. "&S26*100&"%" -> TDH3375B Model eff. 44,8% | S26: 0.448
A27: =A26+1 -> 2 | D27: TDH3380B | E27: TDH3380B Model eff. 45.2% | F27: 452 | H27: TDH3380B | I27: TDH3380B Model eff. 45.2% | J27: 574 | L27: =M27*2 -> 76 | M27: 38 | Q27: TDH3380B | R27: =Q27&" Model eff. "&S27*100&"%" -> TDH3380B Model eff. 45,2% | S27: 0.452
A28: =A27+1 -> 3 | D28: TDH3385B | E28: TDH3385B Model eff. 45.5% | F28: 455 | H28: TDH3385B | I28: TDH3385B Model eff. 45.5% | J28: 577 | L28: =M28*2 -> 77 | M28: =385/10 -> 38.5 | Q28: TDH3385B | R28: =Q28&" Model eff. "&S28*100&"%" -> TDH3385B Model eff. 45,5% | S28: 0.455
A29: =A28+1 -> 4 | D29: TDH3390B | E29: TDH3390B Model eff. 45.8% | F29: 458 | H29: TDH3390B | I29: TDH3390B Model eff. 45.8% | J29: 580 | L29: =M29*2 -> 78 | M29: 39 | Q29: TDH3390B | R29: =Q29&" Model eff. "&S29*100&"%" -> TDH3390B Model eff. 45,8% | S29: 0.458
A30: =A29+1 -> 5 | D30: TDH3395B | E30: TDH3395B Model eff. 46.1% | F30: 461 | H30: TDH3395B | I30: TDH3395B Model eff. 46.1% | J30: 583 | L30: =M30*2 -> 79 | M30: =395/10 -> 39.5 | Q30: TDH3395B | R30: =Q30&" Model eff. "&S30*100&"%" -> TDH3395B Model eff. 46,1% | S30: 0.461
A31: =A30+1 -> 6 | D31: TDH3400B | E31: TDH3400B Model eff. 46.4% | F31: 464 | H31: TDH3400B | I31: TDH3400B Model eff. 46.4% | J31: 586 | L31: =M31*2 -> 80 | M31: 40 | Q31: TDH3400B | R31: =Q31&" Model eff. "&S31*100&"%" -> TDH3400B Model eff. 46,4% | S31: 0.464
A32: =A31+1 -> 7 | D32: TDH3405B | E32: TDH3405B Model eff. 46.8% | F32: 468 | Q32: TDH3405B | R32: =Q32&" Model eff. "&S32*100&"%" -> TDH3405B Model eff. 46,8% | S32: 0.468
A33: =A32+1 -> 8 | D33: TDH3410B | E33: TDH3410B Model eff. 47.1% | F33: 471 | Q33: TDH3410B | R33: =Q33&" Model eff. "&S33*100&"%" -> TDH3410B Model eff. 47,1% | S33: 0.471
A34: =A33+1 -> 9 | D34: TDH3415B | E34: TDH3415B Model eff. 47.4% | F34: 474 | Q34: TDH3415B | R34: =Q34&" Model eff. "&S34*100&"%" -> TDH3415B Model eff. 47,4% | S34: 0.474
A35: =A34+1 -> 10 | D35: TDH3420B | E35: TDH3420B Model eff. 47.7% | F35: 477 | Q35: TDH3420B | R35: =Q35&" Model eff. "&S35*100&"%" -> TDH3420B Model eff. 47,7% | S35: 0.477
A36: =A35+1 -> 11 | D36: TDH3425B | E36: TDH3425B Model eff. 48% | F36: 480 | Q36: TDH3425B | R36: =Q36&" Model eff. "&S36*100&"%" -> TDH3425B Model eff. 48% | S36: 0.48
A37: =A36+1 -> 12 | D37: TDH3430B | E37: TDH3430B Model eff. 48.3% | F37: 483 | Q37: TDH3430B | R37: =Q37&" Model eff. "&S37*100&"%" -> TDH3430B Model eff. 48,3% | S37: 0.483
A38: =A37+1 -> 13 | D38: TDH3435B | E38: TDH3435B Model eff. 48.6% | F38: 486 | Q38: TDH3435B | R38: =Q38&" Model eff. "&S38*100&"%" -> TDH3435B Model eff. 48,6% | S38: 0.486
A39: =A38+1 -> 14 | D39: TDH3440B | E39: TDH3440B Model eff. 48.8% | F39: 488 | Q39: TDH3440B | R39: =Q39&" Model eff. "&S39*100&"%" -> TDH3440B Model eff. 48,8% | S39: 0.488
A40: =A39+1 -> 15 | D40: TDH3445B | E40: TDH3445B Model eff. 49.1% | F40: 491 | Q40: TDH3445B | R40: =Q40&" Model eff. "&S40*100&"%" -> TDH3445B Model eff. 49,1% | S40: 0.491
D41: TDH3450B | E41: TDH3450B Model eff. 49.4% | F41: 494 | Q41: TDH3450B | R41: =Q41&" Model eff. "&S41*100&"%" -> TDH3450B Model eff. 49,4% | S41: 0.494
D42: TDH3455B | E42: TDH3455B Model eff. 49.7% | F42: 497 | Q42: TDH3455B | R42: =Q42&" Model eff. "&S42*100&"%" -> TDH3455B Model eff. 49,7% | S42: 0.497
D43: TDH3460B | E43: TDH3460B Model eff. 50% | F43: 500 | Q43: TDH3460B | R43: =Q43&" Model eff. "&S43*100&"%" -> TDH3460B Model eff. 50% | S43: 0.5
A44: shower_time | D44: TDH3465B | E44: TDH3465B Model eff. 50.2% | F44: 502 | Q44: TDH3465B | R44: =Q44&" Model eff. "&S44*100&"%" -> TDH3465B Model eff. 50,2% | S44: 0.502
A45: 0 | D45: TDH3470B | E45: TDH3470B Model eff. 50.5% | F45: 505 | Q45: TDH3470B | R45: =Q45&" Model eff. "&S45*100&"%" -> TDH3470B Model eff. 50,5% | S45: 0.505
A46: 3 | D46: TDH3475B | E46: TDH3475B Model eff. 50.8% | F46: 508 | Q46: TDH3475B | R46: =Q46&" Model eff. "&S46*100&"%" -> TDH3475B Model eff. 50,8% | S46: 0.508
A47: 5 | D47: TDH3480B | E47: TDH3480B Model eff. 51% | F47: 510 | Q47: TDH3480B | R47: =Q47&" Model eff. "&S47*100&"%" -> TDH3480B Model eff. 51% | S47: 0.51
A48: 8 | D48: TDH3485B | E48: TDH3485B Model eff. 51.3% | F48: 513 | Q48: TDH3485B | R48: =Q48&" Model eff. "&S48*100&"%" -> TDH3485B Model eff. 51,3% | S48: 0.513
A49: 10 | D49: TDH3490B | E49: TDH3490B Model eff. 51.6% | F49: 516 | Q49: TDH3490B | R49: =Q49&" Model eff. "&S49*100&"%" -> TDH3490B Model eff. 51,6% | S49: 0.516
A50: 13 | D50: TDH3495B | E50: TDH3495B Model eff. 51.8% | F50: 518 | Q50: TDH3495B | R50: =Q50&" Model eff. "&S50*100&"%" -> TDH3495B Model eff. 51,8% | S50: 0.518
A51: 15 | D51: TDH3500B | E51: TDH3500B Model eff. 52.1% | F51: 521 | Q51: TDH3500B | R51: =Q51&" Model eff. "&S51*100&"%" -> TDH3500B Model eff. 52,1% | S51: 0.521
A52: 18 | D52: TDH3505B | E52: TDH3505B Model eff. 52.3% | F52: 523 | Q52: TDH3505B | R52: =Q52&" Model eff. "&S52*100&"%" -> TDH3505B Model eff. 52,3% | S52: 0.523
A53: 20 | D53: TDH3510B | E53: TDH3510B Model eff. 52.6% | F53: 526 | Q53: TDH3510B | R53: =Q53&" Model eff. "&S53*100&"%" -> TDH3510B Model eff. 52,6% | S53: 0.526
A54: 23 | D54: TDH3515B | E54: TDH3515B Model eff. 52.8% | F54: 528 | Q54: TDH3515B | R54: =Q54&" Model eff. "&S54*100&"%" -> TDH3515B Model eff. 52,8% | S54: 0.528
A55: 25 | D55: TDH3520B | E55: TDH3520B Model eff. 53% | F55: 530 | Q55: TDH3520B | R55: =Q55&" Model eff. "&S55*100&"%" -> TDH3520B Model eff. 53% | S55: 0.53
A56: 28 | D56: TDH3525B | E56: TDH3525B Model eff. 53.3% | F56: 533 | Q56: TDH3525B | R56: =Q56&" Model eff. "&S56*100&"%" -> TDH3525B Model eff. 53,3% | S56: 0.533
A57: 30 | D57: TDH3530B | E57: TDH3530B Model eff. 53.5% | F57: 535 | Q57: TDH3530B | R57: =Q57&" Model eff. "&S57*100&"%" -> TDH3530B Model eff. 53,5% | S57: 0.535
A58: 60 | B58: 0.584 | C58: 4.5 | D58: TDH3535B | E58: TDH3535B Model eff. 53.7% | F58: 537 | Q58: TDH3535B | R58: =Q58&" Model eff. "&S58*100&"%" -> TDH3535B Model eff. 53,7% | S58: 0.537
D59: TDH3540B | E59: TDH3540B Model eff. 54% | F59: 540 | Q59: TDH3540B | R59: =Q59&" Model eff. "&S59*100&"%" -> TDH3540B Model eff. 54% | S59: 0.54
D60: TDH3545B | E60: TDH3545B Model eff. 54.2% | F60: 542 | Q60: TDH3545B | R60: =Q60&" Model eff. "&S60*100&"%" -> TDH3545B Model eff. 54,2% | S60: 0.542
D61: TDH3550B | E61: TDH3550B Model eff. 54.4% | F61: 544 | Q61: TDH3550B | R61: =Q61&" Model eff. "&S61*100&"%" -> TDH3550B Model eff. 54,4% | S61: 0.544
D62: TDH3555B | E62: TDH3555B Model eff. 54.6% | F62: 546 | Q62: TDH3555B | R62: =Q62&" Model eff. "&S62*100&"%" -> TDH3555B Model eff. 54,6% | S62: 0.546
D63: TDH3560B | E63: TDH3560B Model eff. 54.8% | F63: 548 | Q63: TDH3560B | R63: =Q63&" Model eff. "&S63*100&"%" -> TDH3560B Model eff. 54,8% | S63: 0.548
A64: temperature units | D64: TDH3565B | E64: TDH3565B Model eff. 55.1% | F64: 551 | Q64: TDH3565B | R64: =Q64&" Model eff. "&S64*100&"%" -> TDH3565B Model eff. 55,1% | S64: 0.551
A65: drop down | D65: TDH3570B | E65: TDH3570B Model eff. 55.3% | F65: 553 | Q65: TDH3570B | R65: =Q65&" Model eff. "&S65*100&"%" -> TDH3570B Model eff. 55,3% | S65: 0.553
A66: C° | D66: TDH3575B | E66: TDH3575B Model eff. 55.5% | F66: 555 | Q66: TDH3575B | R66: =Q66&" Model eff. "&S66*100&"%" -> TDH3575B Model eff. 55,5% | S66: 0.555
A67: F° | D67: TDH3580B | E67: TDH3580B Model eff. 55.7% | F67: 557 | Q67: TDH3580B | R67: =Q67&" Model eff. "&S67*100&"%" -> TDH3580B Model eff. 55,7% | S67: 0.557
D68: TDH3585B | E68: TDH3585B Model eff. 55.9% | F68: 559 | Q68: TDH3585B | R68: =Q68&" Model eff. "&S68*100&"%" -> TDH3585B Model eff. 55,9% | S68: 0.559
D69: TDH3590B | E69: TDH3590B Model eff. 56.1% | F69: 561 | Q69: TDH3590B | R69: =Q69&" Model eff. "&S69*100&"%" -> TDH3590B Model eff. 56,1% | S69: 0.561
A70: inflation rate energy | D70: TDH3595B | E70: TDH3595B Model eff. 56.3% | F70: 563 | Q70: TDH3595B | R70: =Q70&" Model eff. "&S70*100&"%" -> TDH3595B Model eff. 56,3% | S70: 0.563
A71: 0 | D71: TDH3600B | E71: TDH3600B Model eff. 56.4% | F71: 564 | Q71: TDH3600B | R71: =Q71&" Model eff. "&S71*100&"%" -> TDH3600B Model eff. 56,4% | S71: 0.564
A72: 0.0025 | D72: TDH3605B | E72: TDH3605B Model eff. 56.6% | F72: 566 | Q72: TDH3605B | R72: =Q72&" Model eff. "&S72*100&"%" -> TDH3605B Model eff. 56,6% | S72: 0.566
A73: =A72+0.25% -> 0.005 | D73: TDH3610B | E73: TDH3610B Model eff. 56.8% | F73: 568 | Q73: TDH3610B | R73: =Q73&" Model eff. "&S73*100&"%" -> TDH3610B Model eff. 56,8% | S73: 0.568
A74: =A73+0.25% -> 0.0075 | D74: TDH3615B | E74: TDH3615B Model eff. 57% | F74: 570 | Q74: TDH3615B | R74: =Q74&" Model eff. "&S74*100&"%" -> TDH3615B Model eff. 57% | S74: 0.57
A75: =A74+0.25% -> 0.01 | D75: *TDH3620B* | E75: *TDH3620B* Model eff. 57.2% | F75: 572 | Q75: *TDH3620B* | R75: =Q75&" Model eff. "&S75*100&"%" -> *TDH3620B* Model eff. 57,2% | S75: 0.572
A76: =A75+0.25% -> 0.0125
A77: =A76+0.25% -> 0.015
A78: =A77+0.25% -> 0.0175
A79: =A78+0.25% -> 0.02
A80: =A79+0.25% -> 0.0225
A81: =A80+0.25% -> 0.025
A82: =A81+0.25% -> 0.0275
A83: =A82+0.25% -> 0.03
A84: =A83+0.25% -> 0.0325 | C84: SCENARIO | E84: #7 | F84: #8 | H84: #10 | I84: #11 | J84: #12 | K84: #13
A85: =A84+0.25% -> 0.035
A86: =A85+0.25% -> 0.0375 | C86: DWH heater location | E86: Per dwelling | F86: Per dwelling | H86: Centralized | I86: Centralized | J86: Centralized | K86: Centralized
A87: =A86+0.25% -> 0.04 | C87: Number of drain stacks | E87: 1 | F87: 1 | H87: 1 | I87: 2 | J87: 2 | K87: 2
C88: Max dwellings per stack | E88: 2 | F88: 3 | H88: 3 | I88: 2 | J88: 3 | K88: 3
C89: DHW Supply line size* | E89: 3/4'' | F89: 1'' | H89: 1'' | I89: 1'' | J89: 1'' | K89: 1-1/4''
A90: number of units per shower drop down menu
A91: 1
A92: 2
A93: 3
A94: 4
A95: 5
A96: 6
A97: 7
A98: 8
